Package: sitadela Version: 1.15.0 Command: E:\biocbuild\bbs-3.21-bioc\R\bin\R.exe CMD INSTALL sitadela StartedAt: 2025-02-20 16:21:36 -0500 (Thu, 20 Feb 2025) EndedAt: 2025-02-20 16:22:32 -0500 (Thu, 20 Feb 2025) EllapsedTime: 56.7 seconds RetCode: 0 Status: OK