Package: sitadela Version: 1.15.0 Command: /Library/Frameworks/R.framework/Resources/bin/R CMD build --keep-empty-dirs --no-resave-data sitadela StartedAt: 2025-02-20 18:18:40 -0500 (Thu, 20 Feb 2025) EndedAt: 2025-02-20 18:21:20 -0500 (Thu, 20 Feb 2025) EllapsedTime: 160.0 seconds RetCode: 0 Status: OK PackageFile: sitadela_1.15.0.tar.gz PackageFileSize: 485 KiB