Package: sitadela Version: 1.15.0 Command: rm -rf sitadela.buildbin-libdir && mkdir sitadela.buildbin-libdir && /Users/biocbuild/BBS/utils/build-universal.sh sitadela_1.15.0.tar.gz /Library/Frameworks/R.framework/Resources/bin/R sitadela.buildbin-libdir StartedAt: 2025-02-21 00:54:16 -0500 (Fri, 21 Feb 2025) EndedAt: 2025-02-21 00:55:09 -0500 (Fri, 21 Feb 2025) EllapsedTime: 53.0 seconds RetCode: 0 Status: OK PackageFile: sitadela_1.15.0.tgz PackageFileSize: 715 KiB