Package: sitadela Version: 1.15.0 Command: /home/biocbuild/R/R/bin/R CMD check --install=check:sitadela.install-out.txt --library=/home/biocbuild/R/R/site-library --no-vignettes --timings sitadela_1.15.0.tar.gz StartedAt: 2025-01-28 15:24:57 -0000 (Tue, 28 Jan 2025) EndedAt: 2025-01-28 15:33:37 -0000 (Tue, 28 Jan 2025) EllapsedTime: 520.5 seconds RetCode: 0 Status: WARNINGS CheckDir: sitadela.Rcheck Warnings: 5