Package: singleCellTK Version: 2.17.1 Command: /home/biocbuild/bbs-3.21-bioc/R/bin/R CMD check --install=check:singleCellTK.install-out.txt --library=/home/biocbuild/bbs-3.21-bioc/R/site-library --timings singleCellTK_2.17.1.tar.gz StartedAt: 2025-02-20 02:34:19 -0500 (Thu, 20 Feb 2025) EndedAt: 2025-02-20 02:43:50 -0500 (Thu, 20 Feb 2025) EllapsedTime: 570.7 seconds RetCode: 1 Status: ERROR CheckDir: singleCellTK.Rcheck Warnings: NA