Package: singleCellTK Version: 2.17.1 Command: /Library/Frameworks/R.framework/Resources/bin/R CMD build --keep-empty-dirs --no-resave-data singleCellTK StartedAt: 2025-02-19 17:39:25 -0500 (Wed, 19 Feb 2025) EndedAt: 2025-02-19 17:39:45 -0500 (Wed, 19 Feb 2025) EllapsedTime: 20.3 seconds RetCode: 0 Status: OK PackageFile: singleCellTK_2.17.1.tar.gz PackageFileSize: 3.24 MiB