Package: singleCellTK Version: 2.17.1 Command: rm -rf singleCellTK.buildbin-libdir && mkdir singleCellTK.buildbin-libdir && /Users/biocbuild/BBS/utils/build-universal.sh singleCellTK_2.17.1.tar.gz /Library/Frameworks/R.framework/Resources/bin/R singleCellTK.buildbin-libdir StartedAt: 2025-02-19 22:39:02 -0500 (Wed, 19 Feb 2025) EndedAt: 2025-02-19 22:39:21 -0500 (Wed, 19 Feb 2025) EllapsedTime: 19.3 seconds RetCode: 0 Status: OK PackageFile: singleCellTK_2.17.1.tgz PackageFileSize: 4.608 MiB