Package: sincell Version: 1.39.0 Command: chmod a+r sincell -R && E:\biocbuild\bbs-3.21-bioc\R\bin\R.exe CMD build --keep-empty-dirs --no-resave-data sincell StartedAt: 2025-02-17 21:34:16 -0500 (Mon, 17 Feb 2025) EndedAt: 2025-02-17 21:36:32 -0500 (Mon, 17 Feb 2025) EllapsedTime: 135.2 seconds RetCode: 1 Status: ERROR PackageFile: None PackageFileSize: NA