Package: sincell Version: 1.39.0 Command: rm -rf sincell.buildbin-libdir && mkdir sincell.buildbin-libdir && E:\biocbuild\bbs-3.21-bioc\R\bin\R.exe CMD INSTALL --build --library=sincell.buildbin-libdir sincell_1.39.0.tar.gz StartedAt: 2025-02-15 08:46:04 -0500 (Sat, 15 Feb 2025) EndedAt: 2025-02-15 08:46:41 -0500 (Sat, 15 Feb 2025) EllapsedTime: 37.0 seconds RetCode: 0 Status: OK PackageFile: sincell_1.39.0.zip PackageFileSize: 1.348 MiB