Package: sincell Version: 1.39.0 Command: /home/biocbuild/bbs-3.21-bioc/R/bin/R CMD check --install=check:sincell.install-out.txt --library=/home/biocbuild/bbs-3.21-bioc/R/site-library --timings sincell_1.39.0.tar.gz StartedAt: 2025-02-15 02:20:02 -0500 (Sat, 15 Feb 2025) EndedAt: 2025-02-15 02:23:20 -0500 (Sat, 15 Feb 2025) EllapsedTime: 198.2 seconds RetCode: 0 Status: OK CheckDir: sincell.Rcheck Warnings: 0