Package: sincell Version: 1.39.0 Command: rm -rf sincell.buildbin-libdir && mkdir sincell.buildbin-libdir && /Users/biocbuild/BBS/utils/build-universal.sh sincell_1.39.0.tar.gz /Library/Frameworks/R.framework/Resources/bin/R sincell.buildbin-libdir StartedAt: 2025-02-18 00:47:52 -0500 (Tue, 18 Feb 2025) EndedAt: 2025-02-18 00:48:21 -0500 (Tue, 18 Feb 2025) EllapsedTime: 29.0 seconds RetCode: 0 Status: OK PackageFile: sincell_1.39.0.tgz PackageFileSize: 1.299 MiB