Package: simplifyEnrichment Version: 2.1.0 Command: /Library/Frameworks/R.framework/Resources/bin/R CMD INSTALL simplifyEnrichment StartedAt: 2025-02-19 15:29:50 -0500 (Wed, 19 Feb 2025) EndedAt: 2025-02-19 15:30:14 -0500 (Wed, 19 Feb 2025) EllapsedTime: 24.0 seconds RetCode: 0 Status: OK