Package: simplifyEnrichment Version: 2.1.0 Command: /Library/Frameworks/R.framework/Resources/bin/R CMD check --install=check:simplifyEnrichment.install-out.txt --library=/Library/Frameworks/R.framework/Resources/library --no-vignettes --timings simplifyEnrichment_2.1.0.tar.gz StartedAt: 2025-02-19 23:20:07 -0500 (Wed, 19 Feb 2025) EndedAt: 2025-02-19 23:22:53 -0500 (Wed, 19 Feb 2025) EllapsedTime: 166.5 seconds RetCode: 0 Status: OK CheckDir: simplifyEnrichment.Rcheck Warnings: 0