Package: simpleSeg Version: 1.9.0 Command: /home/biocbuild/bbs-3.21-bioc/R/bin/R CMD INSTALL simpleSeg StartedAt: 2025-02-17 15:35:01 -0500 (Mon, 17 Feb 2025) EndedAt: 2025-02-17 15:35:46 -0500 (Mon, 17 Feb 2025) EllapsedTime: 45.3 seconds RetCode: 0 Status: OK