Package: simpleSeg Version: 1.9.0 Command: /home/biocbuild/bbs-3.21-bioc/R/bin/R CMD check --install=check:simpleSeg.install-out.txt --library=/home/biocbuild/bbs-3.21-bioc/R/site-library --timings simpleSeg_1.9.0.tar.gz StartedAt: 2025-02-18 02:18:11 -0500 (Tue, 18 Feb 2025) EndedAt: 2025-02-18 02:26:49 -0500 (Tue, 18 Feb 2025) EllapsedTime: 518.6 seconds RetCode: 0 Status: OK CheckDir: simpleSeg.Rcheck Warnings: 0