Package: simpleSeg Version: 1.9.0 Command: /Library/Frameworks/R.framework/Resources/bin/R CMD INSTALL simpleSeg StartedAt: 2025-02-17 15:31:38 -0500 (Mon, 17 Feb 2025) EndedAt: 2025-02-17 15:32:41 -0500 (Mon, 17 Feb 2025) EllapsedTime: 62.4 seconds RetCode: 0 Status: OK