Package: simpleSeg Version: 1.9.0 Command: /Library/Frameworks/R.framework/Resources/bin/R CMD check --install=check:simpleSeg.install-out.txt --library=/Library/Frameworks/R.framework/Resources/library --no-vignettes --timings simpleSeg_1.9.0.tar.gz StartedAt: 2025-02-17 21:26:30 -0500 (Mon, 17 Feb 2025) EndedAt: 2025-02-17 21:28:57 -0500 (Mon, 17 Feb 2025) EllapsedTime: 147.7 seconds RetCode: 0 Status: OK CheckDir: simpleSeg.Rcheck Warnings: 0