Package: simpleSeg Version: 1.9.0 Command: /Library/Frameworks/R.framework/Resources/bin/R CMD build --keep-empty-dirs --no-resave-data simpleSeg StartedAt: 2025-02-17 17:36:17 -0500 (Mon, 17 Feb 2025) EndedAt: 2025-02-17 17:37:16 -0500 (Mon, 17 Feb 2025) EllapsedTime: 58.7 seconds RetCode: 0 Status: OK PackageFile: simpleSeg_1.9.0.tar.gz PackageFileSize: 4.774 MiB