Package: simona Version: 1.5.0 Command: chmod a+r simona -R && E:\biocbuild\bbs-3.21-bioc\R\bin\R.exe CMD build --keep-empty-dirs --no-resave-data simona StartedAt: 2025-02-20 21:50:19 -0500 (Thu, 20 Feb 2025) EndedAt: 2025-02-20 21:54:24 -0500 (Thu, 20 Feb 2025) EllapsedTime: 245.1 seconds RetCode: 0 Status: OK PackageFile: simona_1.5.0.tar.gz PackageFileSize: 944.2 KiB