Package: simona Version: 1.5.0 Command: rm -rf simona.buildbin-libdir && mkdir simona.buildbin-libdir && E:\biocbuild\bbs-3.21-bioc\R\bin\R.exe CMD INSTALL --build --library=simona.buildbin-libdir simona_1.5.0.tar.gz StartedAt: 2025-02-21 09:07:30 -0500 (Fri, 21 Feb 2025) EndedAt: 2025-02-21 09:09:25 -0500 (Fri, 21 Feb 2025) EllapsedTime: 114.7 seconds RetCode: 0 Status: OK PackageFile: simona_1.5.0.zip PackageFileSize: 2.235 MiB