Package: simona Version: 1.5.0 Command: /home/biocbuild/bbs-3.21-bioc/R/bin/R CMD INSTALL simona StartedAt: 2025-02-20 15:23:45 -0500 (Thu, 20 Feb 2025) EndedAt: 2025-02-20 15:25:00 -0500 (Thu, 20 Feb 2025) EllapsedTime: 74.0 seconds RetCode: 0 Status: OK