Package: simona Version: 1.5.0 Command: /home/biocbuild/bbs-3.21-bioc/R/bin/R CMD check --install=check:simona.install-out.txt --library=/home/biocbuild/bbs-3.21-bioc/R/site-library --timings simona_1.5.0.tar.gz StartedAt: 2025-02-21 01:56:15 -0500 (Fri, 21 Feb 2025) EndedAt: 2025-02-21 01:58:11 -0500 (Fri, 21 Feb 2025) EllapsedTime: 116.2 seconds RetCode: 0 Status: OK CheckDir: simona.Rcheck Warnings: 0