Package: similaRpeak Version: 1.39.0 Command: /home/biocbuild/bbs-3.21-bioc/R/bin/R CMD build --keep-empty-dirs --no-resave-data similaRpeak StartedAt: 2025-02-20 19:18:33 -0500 (Thu, 20 Feb 2025) EndedAt: 2025-02-20 19:18:58 -0500 (Thu, 20 Feb 2025) EllapsedTime: 25.0 seconds RetCode: 0 Status: OK PackageFile: similaRpeak_1.39.0.tar.gz PackageFileSize: 2.075 MiB