Package: similaRpeak Version: 1.39.0 Command: /Library/Frameworks/R.framework/Resources/bin/R CMD INSTALL similaRpeak StartedAt: 2025-02-20 15:03:08 -0500 (Thu, 20 Feb 2025) EndedAt: 2025-02-20 15:03:34 -0500 (Thu, 20 Feb 2025) EllapsedTime: 25.2 seconds RetCode: 0 Status: OK