Package: similaRpeak Version: 1.39.0 Command: /Library/Frameworks/R.framework/Resources/bin/R CMD check --install=check:similaRpeak.install-out.txt --library=/Library/Frameworks/R.framework/Resources/library --no-vignettes --timings similaRpeak_1.39.0.tar.gz StartedAt: 2025-02-20 23:18:47 -0500 (Thu, 20 Feb 2025) EndedAt: 2025-02-20 23:19:19 -0500 (Thu, 20 Feb 2025) EllapsedTime: 31.3 seconds RetCode: 0 Status: OK CheckDir: similaRpeak.Rcheck Warnings: 0