Package: similaRpeak Version: 1.39.0 Command: /Library/Frameworks/R.framework/Resources/bin/R CMD build --keep-empty-dirs --no-resave-data similaRpeak StartedAt: 2025-02-20 18:17:30 -0500 (Thu, 20 Feb 2025) EndedAt: 2025-02-20 18:18:00 -0500 (Thu, 20 Feb 2025) EllapsedTime: 29.8 seconds RetCode: 0 Status: OK PackageFile: similaRpeak_1.39.0.tar.gz PackageFileSize: 2.145 MiB