Package: simPIC Version: 1.3.0 Command: E:\biocbuild\bbs-3.21-bioc\R\bin\R.exe CMD check --no-multiarch --install=check:simPIC.install-out.txt --library=E:\biocbuild\bbs-3.21-bioc\R\library --no-vignettes --timings simPIC_1.3.0.tar.gz StartedAt: 2025-02-21 05:47:54 -0500 (Fri, 21 Feb 2025) EndedAt: 2025-02-21 05:51:43 -0500 (Fri, 21 Feb 2025) EllapsedTime: 229.0 seconds RetCode: 0 Status: OK CheckDir: simPIC.Rcheck Warnings: 0