Package: simPIC Version: 1.3.0 Command: rm -rf simPIC.buildbin-libdir && mkdir simPIC.buildbin-libdir && E:\biocbuild\bbs-3.21-bioc\R\bin\R.exe CMD INSTALL --build --library=simPIC.buildbin-libdir simPIC_1.3.0.tar.gz StartedAt: 2025-02-21 09:07:31 -0500 (Fri, 21 Feb 2025) EndedAt: 2025-02-21 09:08:07 -0500 (Fri, 21 Feb 2025) EllapsedTime: 35.3 seconds RetCode: 0 Status: OK PackageFile: simPIC_1.3.0.zip PackageFileSize: 2.33 MiB