Package: signifinder Version: 1.9.3 Command: /home/biocbuild/bbs-3.21-bioc/R/bin/R CMD check --install=check:signifinder.install-out.txt --library=/home/biocbuild/bbs-3.21-bioc/R/site-library --timings signifinder_1.9.3.tar.gz StartedAt: 2025-02-21 01:54:55 -0500 (Fri, 21 Feb 2025) EndedAt: 2025-02-21 02:15:37 -0500 (Fri, 21 Feb 2025) EllapsedTime: 1242.6 seconds RetCode: 0 Status: OK CheckDir: signifinder.Rcheck Warnings: 0