Package: signifinder Version: 1.9.3 Command: /home/biocbuild/bbs-3.21-bioc/R/bin/R CMD build --keep-empty-dirs --no-resave-data signifinder StartedAt: 2025-02-20 19:18:08 -0500 (Thu, 20 Feb 2025) EndedAt: 2025-02-20 19:20:58 -0500 (Thu, 20 Feb 2025) EllapsedTime: 170.2 seconds RetCode: 0 Status: OK PackageFile: signifinder_1.9.3.tar.gz PackageFileSize: 9.56 MiB