Package: signifinder Version: 1.9.3 Command: /Library/Frameworks/R.framework/Resources/bin/R CMD build --keep-empty-dirs --no-resave-data signifinder StartedAt: 2025-02-20 18:17:02 -0500 (Thu, 20 Feb 2025) EndedAt: 2025-02-20 18:20:05 -0500 (Thu, 20 Feb 2025) EllapsedTime: 182.7 seconds RetCode: 0 Status: OK PackageFile: signifinder_1.9.3.tar.gz PackageFileSize: 9.649 MiB