Package: signifinder Version: 1.9.3 Command: /Library/Frameworks/R.framework/Resources/bin/R CMD check --install=check:signifinder.install-out.txt --library=/Library/Frameworks/R.framework/Resources/library --no-vignettes --timings signifinder_1.9.3.tar.gz StartedAt: 2025-02-20 21:26:32 -0500 (Thu, 20 Feb 2025) EndedAt: 2025-02-20 21:33:52 -0500 (Thu, 20 Feb 2025) EllapsedTime: 440.2 seconds RetCode: 0 Status: OK CheckDir: signifinder.Rcheck Warnings: 0