Package: signatureSearch Version: 1.21.0 Command: E:\biocbuild\bbs-3.21-bioc\R\bin\R.exe CMD check --no-multiarch --install=check:signatureSearch.install-out.txt --library=E:\biocbuild\bbs-3.21-bioc\R\library --no-vignettes --timings signatureSearch_1.21.0.tar.gz StartedAt: 2025-02-21 05:46:02 -0500 (Fri, 21 Feb 2025) EndedAt: 2025-02-21 05:57:05 -0500 (Fri, 21 Feb 2025) EllapsedTime: 663.2 seconds RetCode: 0 Status: OK CheckDir: signatureSearch.Rcheck Warnings: 0