Package: signatureSearch Version: 1.21.0 Command: rm -rf signatureSearch.buildbin-libdir && mkdir signatureSearch.buildbin-libdir && E:\biocbuild\bbs-3.21-bioc\R\bin\R.exe CMD INSTALL --build --library=signatureSearch.buildbin-libdir signatureSearch_1.21.0.tar.gz StartedAt: 2025-02-21 09:06:41 -0500 (Fri, 21 Feb 2025) EndedAt: 2025-02-21 09:13:02 -0500 (Fri, 21 Feb 2025) EllapsedTime: 380.9 seconds RetCode: 0 Status: OK PackageFile: signatureSearch_1.21.0.zip PackageFileSize: 85.13 MiB