Package: signatureSearch Version: 1.21.0 Command: /home/biocbuild/bbs-3.21-bioc/R/bin/R CMD INSTALL signatureSearch StartedAt: 2025-02-20 16:01:26 -0500 (Thu, 20 Feb 2025) EndedAt: 2025-02-20 16:03:07 -0500 (Thu, 20 Feb 2025) EllapsedTime: 100.6 seconds RetCode: 0 Status: OK