Package: signatureSearch Version: 1.21.0 Command: /home/biocbuild/bbs-3.21-bioc/R/bin/R CMD build --keep-empty-dirs --no-resave-data signatureSearch StartedAt: 2025-02-20 19:17:56 -0500 (Thu, 20 Feb 2025) EndedAt: 2025-02-20 19:30:17 -0500 (Thu, 20 Feb 2025) EllapsedTime: 741.9 seconds RetCode: 0 Status: OK PackageFile: signatureSearch_1.21.0.tar.gz PackageFileSize: 5.221 MiB