Package: signatureSearch Version: 1.21.0 Command: /Library/Frameworks/R.framework/Resources/bin/R CMD INSTALL signatureSearch StartedAt: 2025-02-20 15:33:09 -0500 (Thu, 20 Feb 2025) EndedAt: 2025-02-20 15:35:33 -0500 (Thu, 20 Feb 2025) EllapsedTime: 144.4 seconds RetCode: 0 Status: OK