Package: signatureSearch Version: 1.21.0 Command: rm -rf signatureSearch.buildbin-libdir && mkdir signatureSearch.buildbin-libdir && /Users/biocbuild/BBS/utils/build-universal.sh signatureSearch_1.21.0.tar.gz /Library/Frameworks/R.framework/Resources/bin/R signatureSearch.buildbin-libdir StartedAt: 2025-02-21 00:53:53 -0500 (Fri, 21 Feb 2025) EndedAt: 2025-02-21 00:56:16 -0500 (Fri, 21 Feb 2025) EllapsedTime: 143.1 seconds RetCode: 0 Status: OK PackageFile: signatureSearch_1.21.0.tgz PackageFileSize: 85.23 MiB