Package: signatureSearch Version: 1.21.0 Command: /Library/Frameworks/R.framework/Resources/bin/R CMD build --keep-empty-dirs --no-resave-data signatureSearch StartedAt: 2025-02-20 17:36:54 -0500 (Thu, 20 Feb 2025) EndedAt: 2025-02-20 17:41:44 -0500 (Thu, 20 Feb 2025) EllapsedTime: 289.2 seconds RetCode: 0 Status: OK PackageFile: signatureSearch_1.21.0.tar.gz PackageFileSize: 5.288 MiB