Package: sights Version: 1.33.0 Command: chmod a+r sights -R && E:\biocbuild\bbs-3.21-bioc\R\bin\R.exe CMD build --keep-empty-dirs --no-resave-data sights StartedAt: 2025-02-20 21:48:57 -0500 (Thu, 20 Feb 2025) EndedAt: 2025-02-20 21:49:51 -0500 (Thu, 20 Feb 2025) EllapsedTime: 53.9 seconds RetCode: 0 Status: OK PackageFile: sights_1.33.0.tar.gz PackageFileSize: 3.372 MiB