Package: sights Version: 1.33.0 Command: /home/biocbuild/bbs-3.21-bioc/R/bin/R CMD build --keep-empty-dirs --no-resave-data sights StartedAt: 2025-02-20 19:17:56 -0500 (Thu, 20 Feb 2025) EndedAt: 2025-02-20 19:18:28 -0500 (Thu, 20 Feb 2025) EllapsedTime: 32.1 seconds RetCode: 0 Status: OK PackageFile: sights_1.33.0.tar.gz PackageFileSize: 5.393 MiB