Package: sights Version: 1.33.0 Command: /Library/Frameworks/R.framework/Resources/bin/R CMD INSTALL sights StartedAt: 2025-02-19 15:10:15 -0500 (Wed, 19 Feb 2025) EndedAt: 2025-02-19 15:10:24 -0500 (Wed, 19 Feb 2025) EllapsedTime: 9.1 seconds RetCode: 0 Status: OK