Package: sights Version: 1.33.0 Command: /Library/Frameworks/R.framework/Resources/bin/R CMD INSTALL sights StartedAt: 2025-02-20 15:06:51 -0500 (Thu, 20 Feb 2025) EndedAt: 2025-02-20 15:06:55 -0500 (Thu, 20 Feb 2025) EllapsedTime: 3.2 seconds RetCode: 0 Status: OK