Package: sights Version: 1.33.0 Command: rm -rf sights.buildbin-libdir && mkdir sights.buildbin-libdir && /Users/biocbuild/BBS/utils/build-universal.sh sights_1.33.0.tar.gz /Library/Frameworks/R.framework/Resources/bin/R sights.buildbin-libdir StartedAt: 2025-02-20 22:35:39 -0500 (Thu, 20 Feb 2025) EndedAt: 2025-02-20 22:35:42 -0500 (Thu, 20 Feb 2025) EllapsedTime: 3.1 seconds RetCode: 0 Status: OK PackageFile: sights_1.33.0.tgz PackageFileSize: 3.665 MiB