Package: siggenes Version: 1.81.0 Command: /Library/Frameworks/R.framework/Resources/bin/R CMD build --keep-empty-dirs --no-resave-data siggenes StartedAt: 2025-02-18 18:14:51 -0500 (Tue, 18 Feb 2025) EndedAt: 2025-02-18 18:15:23 -0500 (Tue, 18 Feb 2025) EllapsedTime: 32.0 seconds RetCode: 0 Status: OK PackageFile: siggenes_1.81.0.tar.gz PackageFileSize: 743.4 KiB