Package: sigFeature Version: 1.25.0 Command: chmod a+r sigFeature -R && E:\biocbuild\bbs-3.21-bioc\R\bin\R.exe CMD build --keep-empty-dirs --no-resave-data sigFeature StartedAt: 2025-02-19 21:40:18 -0500 (Wed, 19 Feb 2025) EndedAt: 2025-02-19 21:41:18 -0500 (Wed, 19 Feb 2025) EllapsedTime: 59.6 seconds RetCode: 0 Status: OK PackageFile: sigFeature_1.25.0.tar.gz PackageFileSize: 264 KiB