Package: sigFeature Version: 1.25.0 Command: /home/biocbuild/bbs-3.21-bioc/R/bin/R CMD build --keep-empty-dirs --no-resave-data sigFeature StartedAt: 2025-02-19 19:14:17 -0500 (Wed, 19 Feb 2025) EndedAt: 2025-02-19 19:14:55 -0500 (Wed, 19 Feb 2025) EllapsedTime: 38.0 seconds RetCode: 0 Status: OK PackageFile: sigFeature_1.25.0.tar.gz PackageFileSize: 369.6 KiB