Package: sigFeature Version: 1.26.0 Command: /Library/Frameworks/R.framework/Resources/bin/R CMD INSTALL sigFeature StartedAt: 2025-10-13 16:23:30 -0400 (Mon, 13 Oct 2025) EndedAt: 2025-10-13 16:23:59 -0400 (Mon, 13 Oct 2025) EllapsedTime: 29.3 seconds RetCode: 0 Status: OK