Package: sigFeature Version: 1.26.0 Command: /Library/Frameworks/R.framework/Resources/bin/R CMD build --keep-empty-dirs --no-resave-data sigFeature StartedAt: 2025-10-14 09:29:31 -0400 (Tue, 14 Oct 2025) EndedAt: 2025-10-14 09:30:18 -0400 (Tue, 14 Oct 2025) EllapsedTime: 47.5 seconds RetCode: 0 Status: OK PackageFile: sigFeature_1.26.0.tar.gz PackageFileSize: 370.4 KiB