Package: shinyepico Version: 1.15.0 Command: E:\biocbuild\bbs-3.21-bioc\R\bin\R.exe CMD INSTALL shinyepico StartedAt: 2025-02-19 16:54:37 -0500 (Wed, 19 Feb 2025) EndedAt: 2025-02-19 16:54:51 -0500 (Wed, 19 Feb 2025) EllapsedTime: 14.1 seconds RetCode: 0 Status: OK